BEGIN:VCALENDAR
VERSION:2.0
BEGIN:VTIMEZONE
TZID:GMT Standard Time
END:VTIMEZONE
BEGIN:VEVENT
UID:AE26
DTSTAMP:20260422T123800Z
SUMMARY:30 χρόνια παραστάσεις ΔΗ.ΠΕ.ΘΕ. Κομοτηνής
CLASS:PUBLIC
DESCRIPTION:&Mu;&omicron;&upsilon;&sigma;&iota;&kappa;ή &Pi;&alpha;&rho;ά&sigma;&tau;&alpha;&sigma;&eta; &mu;&epsilon; &tau;&omicron; &phi;&omega;&nu;&eta;&tau;&iota;&kappa;ό &sigma;ύ&nu;&omicron;&lambda;&omicron; "8tetto"\n&Chi;ώ&rho;&omicron;&sigmaf;: &Alpha;ί&theta;&omicron;&upsilon;&sigma;&alpha;&nbsp;&Delta;&Eta;.&Pi;&Epsilon;.&Theta;&Epsilon;. &Kappa;&omicron;&mu;&omicron;&tau;&eta;&nu;ή&sigmaf; - Ώ&rho;&alpha; έ&nu;&alpha;&rho;&xi;&eta;&sigmaf;: 20:00
STATUS:CONFIRMED
PRIORITY:1
DTSTART:20160314T180000Z
DTEND:20160314T213000Z
TRANSP:OPAQUE
END:VEVENT
END:VCALENDAR
